BEGIN:VCALENDAR
VERSION:2.0
PRODID:-//www.ceap.org//NONSGML kigkonsult.se iCalcreator 2.30.10//
CALSCALE:GREGORIAN
METHOD:PUBLISH
UID:6e15aaed-bda9-4f79-a582-f0fdd48cce61
X-WR-CALDESC:Give a Damn about hunger with CEAP and Surly! CEAP is our comm
 unity safety net that shares 500\,000 meals with our neighbors through a f
 ree food market\, Meals on Wheels\, and more.\n\nDuring our Give a Damn Ab
 out Hunger event\, CEAP will bring our truck to Surly to collect donations
  of non-perishable food items. We will also collect monetary donations thr
 ough cash\, check\, or QR code and anyone who makes a food or fund donatio
 n to CEAP will receive a Surly free beer coupon!\n\nCan't make it to the e
 vent? Give online at www.ceap.org/donate! Donations to CEAP are currently 
 doubled thanks to a $15\,000 CEAP Community Challenge match from Surly and
  other committed partners.\n\nLet's come together and Give a Damn about hu
 nger!
X-WR-RELCALID:788e8c0a05fb2dfd824c699e01eabf75
X-WR-TIMEZONE:America/Chicago
BEGIN:VTIMEZONE
TZID:America/Chicago
BEGIN:STANDARD
TZNAME:CST
DTSTART:20221106T020000
TZOFFSETFROM:-0500
TZOFFSETTO:-0600
RDATE:20231105T020000
END:STANDARD
BEGIN:DAYLIGHT
TZNAME:CDT
DTSTART:20230312T020000
TZOFFSETFROM:-0600
TZOFFSETTO:-0500
RDATE:20240310T020000
END:DAYLIGHT
END:VTIMEZONE
BEGIN:VEVENT
UID:6aa7b533-b435-452e-a254-705b53ad3602
DTSTAMP:20260420T092156Z
DESCRIPTION:Give a Damn about hunger with CEAP and Surly! CEAP is our commu
 nity safety net that shares 500\,000 meals with our neighbors through a fr
 ee food market\, Meals on Wheels\, and more.\n\nDuring our Give a Damn Abo
 ut Hunger event\, CEAP will bring our truck to Surly to collect donations 
 of non-perishable food items. We will also collect monetary donations thro
 ugh cash\, check\, or QR code and anyone who makes a food or fund donation
  to CEAP will receive a Surly free beer coupon!\n\nCan't make it to the ev
 ent? Give online at www.ceap.org/donate! Donations to CEAP are currently d
 oubled thanks to a $15\,000 CEAP Community Challenge match from Surly and 
 other committed partners.\n\nLet's come together and Give a Damn about hun
 ger!
DTSTART;TZID=America/Chicago:20230325T160000
DTEND;TZID=America/Chicago:20230325T180000
LOCATION:Surly Brewing Company
SUMMARY:Give a Damn About Hunger
END:VEVENT
END:VCALENDAR
